BEGIN:VCALENDAR
VERSION:2.0
PRODID:-//Accademia Crei - ECPv6.15.20//NONSGML v1.0//EN
CALSCALE:GREGORIAN
METHOD:PUBLISH
X-WR-CALNAME:Accademia Crei
X-ORIGINAL-URL:https://accademiacrei.com
X-WR-CALDESC:Eventi per Accademia Crei
REFRESH-INTERVAL;VALUE=DURATION:PT1H
X-Robots-Tag:noindex
X-PUBLISHED-TTL:PT1H
BEGIN:VTIMEZONE
TZID:Europe/Helsinki
BEGIN:DAYLIGHT
TZOFFSETFROM:+0200
TZOFFSETTO:+0300
TZNAME:EEST
DTSTART:20230326T010000
END:DAYLIGHT
BEGIN:STANDARD
TZOFFSETFROM:+0300
TZOFFSETTO:+0200
TZNAME:EET
DTSTART:20231029T010000
END:STANDARD
BEGIN:DAYLIGHT
TZOFFSETFROM:+0200
TZOFFSETTO:+0300
TZNAME:EEST
DTSTART:20240331T010000
END:DAYLIGHT
BEGIN:STANDARD
TZOFFSETFROM:+0300
TZOFFSETTO:+0200
TZNAME:EET
DTSTART:20241027T010000
END:STANDARD
BEGIN:DAYLIGHT
TZOFFSETFROM:+0200
TZOFFSETTO:+0300
TZNAME:EEST
DTSTART:20250330T010000
END:DAYLIGHT
BEGIN:STANDARD
TZOFFSETFROM:+0300
TZOFFSETTO:+0200
TZNAME:EET
DTSTART:20251026T010000
END:STANDARD
BEGIN:DAYLIGHT
TZOFFSETFROM:+0200
TZOFFSETTO:+0300
TZNAME:EEST
DTSTART:20260329T010000
END:DAYLIGHT
BEGIN:STANDARD
TZOFFSETFROM:+0300
TZOFFSETTO:+0200
TZNAME:EET
DTSTART:20261025T010000
END:STANDARD
BEGIN:DAYLIGHT
TZOFFSETFROM:+0200
TZOFFSETTO:+0300
TZNAME:EEST
DTSTART:20270328T010000
END:DAYLIGHT
BEGIN:STANDARD
TZOFFSETFROM:+0300
TZOFFSETTO:+0200
TZNAME:EET
DTSTART:20271031T010000
END:STANDARD
END:VTIMEZONE
BEGIN:VEVENT
DTSTART;TZID=Europe/Helsinki:20260214T093000
DTEND;TZID=Europe/Helsinki:20260214T170000
DTSTAMP:20260421T042342
CREATED:20251017T154453Z
LAST-MODIFIED:20251017T154609Z
UID:2813-1771061400-1771088400@accademiacrei.com
SUMMARY:Corso di Counseling a mediazione corporea i-MOV
DESCRIPTION:Il corso aiuta a identificare i propri valori fondamentali\, a riconoscere ed eliminare le credenze limitanti al fine di trovare la strada verso il successo\, la felicità e la realizzazione. Durante il corso si lavora per stimolare le risorse personali\, identificare i propri punti di forza\, fare emergere la motivazione e la fiducia in sé necessari per affrontare con consapevolezza i cambiamenti che la vita ci propone.
URL:https://accademiacrei.com/evento/corso-di-counseling-a-mediazione-corporea/
LOCATION:Centro SAN\, via G. Belinzaghi 3\, Milano
ATTACH;FMTTYPE=image/jpeg:https://accademiacrei.com/wp-content/uploads/AccademiaCrei-counseling-mediazione-corporea.jpg
END:VEVENT
BEGIN:VEVENT
DTSTART;TZID=Europe/Helsinki:20251011T093000
DTEND;TZID=Europe/Helsinki:20251012T170000
DTSTAMP:20260421T042342
CREATED:20250114T112141Z
LAST-MODIFIED:20250627T135825Z
UID:2569-1760175000-1760288400@accademiacrei.com
SUMMARY:Corso di Sciamanesimo - Heart Shamanism il cammino del cuore - Ciclo Delfino
DESCRIPTION:Il Corso di Sciamanesimo Heart Shamanism propone un programma ricco e completo per conoscere e praticare lo Sciamanesimo\, il più antico sistema di conoscenza e guarigione conosciuto dall’umanità: un corso teorico/esperienziale di crescita personale e di apprendimento di tecniche sciamaniche.
URL:https://accademiacrei.com/evento/sciamanesimo-heart-shamanism/
LOCATION:Oasi WWF\, Via delle Tre Campane\, 21\, Vanzago
ATTACH;FMTTYPE=image/jpeg:https://accademiacrei.com/wp-content/uploads/delfini-quadrata.jpeg
END:VEVENT
BEGIN:VEVENT
DTSTART;TZID=Europe/Helsinki:20250801T160000
DTEND;TZID=Europe/Helsinki:20250805T140000
DTSTAMP:20260421T042342
CREATED:20250309T090147Z
LAST-MODIFIED:20250627T083229Z
UID:2670-1754064000-1754402400@accademiacrei.com
SUMMARY:Vacanza Olistica 2025
DESCRIPTION:Regalati cinque giorni di Mindfulness\, Meditazione\, Movimento\, Numerologia e Armonie sonore con Campane tibetane e Gong. Immergiti nella bellezza della Liguria e lasciati avvolgere dalla natura mentre esplori il tuo io interiore e riscopri la tua autenticità.
URL:https://accademiacrei.com/evento/vacanza-olistica/
LOCATION:Anandamaya Jivanti – Finale Ligure (SV)\, località Cà Lodola n1\, Calice Ligure SV\, Italy
ATTACH;FMTTYPE=image/jpeg:https://accademiacrei.com/wp-content/uploads/Vacanza-Olistica-2025.jpeg
END:VEVENT
BEGIN:VEVENT
DTSTART;TZID=Europe/Helsinki:20250330T093000
DTEND;TZID=Europe/Helsinki:20250330T170000
DTSTAMP:20260421T042342
CREATED:20250103T121729Z
LAST-MODIFIED:20250103T153626Z
UID:2545-1743327000-1743354000@accademiacrei.com
SUMMARY:La via alchemica Arcani Maggiori dei Tarocchi - Seconda giornata
DESCRIPTION:Il corso è aperto a tutti indipendentemente dal livello di esperienza con i tarocchi o con pratiche corporee di crescita personale.\nE’ consigliato a chi desidera conoscersi meglio e vivere un’esperienza di crescita evolutiva.
URL:https://accademiacrei.com/evento/archetipi-arcani-maggiori-dei-tarocchi-2/
LOCATION:Centro SAN\, via G. Belinzaghi 3\, Milano
ATTACH;FMTTYPE=image/jpeg:https://accademiacrei.com/wp-content/uploads/AccademiaCrei-archetipi@2x.jpg
END:VEVENT
BEGIN:VEVENT
DTSTART;TZID=Europe/Helsinki:20250309T140000
DTEND;TZID=Europe/Helsinki:20250309T180000
DTSTAMP:20260421T042342
CREATED:20250103T172706Z
LAST-MODIFIED:20250409T133657Z
UID:2555-1741528800-1741543200@accademiacrei.com
SUMMARY:Laboratorio di Costellazioni Familiari
DESCRIPTION:Il laboratorio di costellazioni familiari di gruppo serve per far luce su svariate dinamiche. Le costellazioni familiari\, ideate da Bert Hellinger\, sono un potente strumento per vivere in libertà la propria vita e sono efficaci per affrontare tematiche riguardanti la famiglia\, la realizzazione personale\, il lavoro\, l’amore\, i rapporti interpersonali\, i disagi fisici ed emozionali.
URL:https://accademiacrei.com/evento/costellazioni-familiari/
LOCATION:Centro SAN\, via G. Belinzaghi 3\, Milano
ATTACH;FMTTYPE=image/jpeg:https://accademiacrei.com/wp-content/uploads/AccademiaCrei-costellazioni.jpg
END:VEVENT
BEGIN:VEVENT
DTSTART;TZID=Europe/Helsinki:20250202T093000
DTEND;TZID=Europe/Helsinki:20250202T170000
DTSTAMP:20260421T042342
CREATED:20250103T121431Z
LAST-MODIFIED:20250114T112352Z
UID:2543-1738488600-1738515600@accademiacrei.com
SUMMARY:La via alchemica Arcani Maggiori dei Tarocchi - Prima giornata
DESCRIPTION:Un viaggio profondo e trasformativo attraverso il mondo degli Arcani Maggiori dei Tarocchi.\nUn corso innovativo\, dove esploreremo non solo i significati simbolici e le interpretazioni dei tarocchi\, ma anche il metodo i-MOV che permette di integrare i movimenti evolutivi dell’anima nella pratica personale e professionale. \nProgramma della prima giornata:\n– Introduzione agli Arcani Maggiori dei Tarocchi: storia e simbologie\n– Approfondimento delle prime 11 carte (da Il Mago a La Forza)\n– Esercizi pratici: meditazione e movimenti i-MOV correlati alle prime carte\n– Condivisione delle esperienze\n \n 
URL:https://accademiacrei.com/evento/archetipi-arcani-maggiori-dei-tarocchi/
LOCATION:Centro SAN\, via G. Belinzaghi 3\, Milano
ATTACH;FMTTYPE=image/jpeg:https://accademiacrei.com/wp-content/uploads/AccademiaCrei-archetipi@2x.jpg
END:VEVENT
BEGIN:VEVENT
DTSTART;TZID=Europe/Helsinki:20241110T140000
DTEND;TZID=Europe/Helsinki:20241110T180000
DTSTAMP:20260421T042342
CREATED:20241107T160420Z
LAST-MODIFIED:20250103T173814Z
UID:2468-1731247200-1731261600@accademiacrei.com
SUMMARY:Costellazioni Familiari
DESCRIPTION:Le costellazioni familiari\, ideate da Bert Hellinger\, sono un potente strumento per vivere in libertà la propria vita e sono efficaci per affrontare tematiche riguardanti la famiglia\, la realizzazione personale\, il lavoro\, l’amore\, i rapporti interpersonali\, i disagi fisici ed emozionali. \nÈ possibile partecipare a laboratori di gruppo di costellazioni familiari per far luce su svariate dinamiche\, o compiere un lavoro personale in sessione individuale.
URL:https://accademiacrei.com/evento/costellazioni-familiari-2-2/
LOCATION:Centro SAN\, via G. Belinzaghi 3\, Milano
ATTACH;FMTTYPE=image/jpeg:https://accademiacrei.com/wp-content/uploads/AccademiaCrei-costellazioni.jpg
END:VEVENT
BEGIN:VEVENT
DTSTART;TZID=Europe/Helsinki:20241109T093000
DTEND;TZID=Europe/Helsinki:20241110T170000
DTSTAMP:20260421T042342
CREATED:20240904T084502Z
LAST-MODIFIED:20241108T140009Z
UID:2274-1731144600-1731258000@accademiacrei.com
SUMMARY:Corso di Reiki 2° livello
DESCRIPTION:Reiki stimola equilibrio\, consapevolezza e armonia. In questa pratica l’operatore\, attraverso il tocco sensibile delle mani\, favorisce lo scorrere dell’energia stimolando il riequilibrio energetico e psicofisico del ricevente. \nSi svolge in due livelli\, ma è possibile frequentare anche solo il primo livello\, che fornisce gli strumenti necessari a praticare Reiki su di sè e su altre persone. \nIl secondo livello\, facoltativo\, potenzia la capacità di utilizzare Reiki attraverso l’apprendimento e l’utilizzo dei simboli. \nSCOPRI DI PIU’  \n 
URL:https://accademiacrei.com/evento/evento-reiki2/
LOCATION:Studio Shiatsu Amico\, via Verdi 2\, Castellanza\, Italia
ATTACH;FMTTYPE=image/jpeg:https://accademiacrei.com/wp-content/uploads/reiki@2x.jpg
END:VEVENT
BEGIN:VEVENT
DTSTART;TZID=Europe/Helsinki:20240928T093000
DTEND;TZID=Europe/Helsinki:20240929T170000
DTSTAMP:20260421T042342
CREATED:20240719T144654Z
LAST-MODIFIED:20250114T112738Z
UID:1726-1727515800-1727629200@accademiacrei.com
SUMMARY:Corso di Sciamanesimo - Heart Shamanism il cammino del cuore
DESCRIPTION:Il Corso di Sciamanesimo Heart Shamanism propone un programma ricco e completo per conoscere e praticare lo Sciamanesimo\, il più antico sistema di conoscenza e guarigione conosciuto dall’umanità: un corso teorico/esperienziale di crescita personale e di apprendimento di tecniche sciamaniche.
URL:https://accademiacrei.com/evento/sciamanesimo-heart-shamanism-2/
LOCATION:Oasi WWF\, Via delle Tre Campane\, 21\, Vanzago
ATTACH;FMTTYPE=image/jpeg:https://accademiacrei.com/wp-content/uploads/AccademiaCrei-sciamanesimo@2x.jpg
END:VEVENT
BEGIN:VEVENT
DTSTART;TZID=Europe/Helsinki:20240914T093000
DTEND;TZID=Europe/Helsinki:20240915T170000
DTSTAMP:20260421T042342
CREATED:20240814T101129Z
LAST-MODIFIED:20240912T090018Z
UID:2214-1726306200-1726419600@accademiacrei.com
SUMMARY:Workshop - Legge di attrazione: manifesta benessere e abbondanza
DESCRIPTION:Il corso sulla Legge di Attrazione è finalizzato a conoscere e sperimentare questa legge\, anche nei suoi aspetti di Manifestazione e Risonanza. \nLa Legge di Attrazione è una legge universale creata dalla vita stessa per agevolarci nel cammino di crescita evolutiva. In questo corso apprenderai come utilizzare questa legge per migliorare concretamente la tua vita. \n“Tutto l’universo cospira affinché\, chi lo desidera con tutto sè stesso\, possa riuscire a realizzare i propri sogni” (Paulo Coelho) \nSCOPRI DI PIU’
URL:https://accademiacrei.com/evento/legge-di-attrazione/
LOCATION:Centro SAN\, via G. Belinzaghi 3\, Milano
ATTACH;FMTTYPE=image/jpeg:https://accademiacrei.com/wp-content/uploads/AccademiaCrei-legge-attrazione@2x.jpg
END:VEVENT
END:VCALENDAR