BEGIN:VCALENDAR
VERSION:2.0
PRODID:-//Accademia Crei - ECPv6.15.20//NONSGML v1.0//EN
CALSCALE:GREGORIAN
METHOD:PUBLISH
X-WR-CALNAME:Accademia Crei
X-ORIGINAL-URL:https://accademiacrei.com
X-WR-CALDESC:Eventi per Accademia Crei
REFRESH-INTERVAL;VALUE=DURATION:PT1H
X-Robots-Tag:noindex
X-PUBLISHED-TTL:PT1H
BEGIN:VTIMEZONE
TZID:Europe/Helsinki
BEGIN:DAYLIGHT
TZOFFSETFROM:+0200
TZOFFSETTO:+0300
TZNAME:EEST
DTSTART:20250330T010000
END:DAYLIGHT
BEGIN:STANDARD
TZOFFSETFROM:+0300
TZOFFSETTO:+0200
TZNAME:EET
DTSTART:20251026T010000
END:STANDARD
BEGIN:DAYLIGHT
TZOFFSETFROM:+0200
TZOFFSETTO:+0300
TZNAME:EEST
DTSTART:20260329T010000
END:DAYLIGHT
BEGIN:STANDARD
TZOFFSETFROM:+0300
TZOFFSETTO:+0200
TZNAME:EET
DTSTART:20261025T010000
END:STANDARD
BEGIN:DAYLIGHT
TZOFFSETFROM:+0200
TZOFFSETTO:+0300
TZNAME:EEST
DTSTART:20270328T010000
END:DAYLIGHT
BEGIN:STANDARD
TZOFFSETFROM:+0300
TZOFFSETTO:+0200
TZNAME:EET
DTSTART:20271031T010000
END:STANDARD
END:VTIMEZONE
BEGIN:VEVENT
DTSTART;TZID=Europe/Helsinki:20260524T080000
DTEND;TZID=Europe/Helsinki:20260524T230000
DTSTAMP:20260420T213841
CREATED:20250409T134345Z
LAST-MODIFIED:20251120T142848Z
UID:2683-1779609600-1779663600@accademiacrei.com
SUMMARY:Firewalking - La camminata sul fuoco
DESCRIPTION:Firewalking è uno strumento di trasformazione e potenziamento personale\, simbolo del superamento degli ostacoli e delle credenze limitanti creati dalla mente. È una potentissima metafora del superamento delle paure più profonde: oltrepassando un letto di braci a piedi nudi viene radicalmente scossa la credenza che il fuoco brucia e in noi stessi inizia a farsi strada il nuovo pensiero: “io posso”.
URL:https://accademiacrei.com/evento/fire-walking/
ATTACH;FMTTYPE=image/jpeg:https://accademiacrei.com/wp-content/uploads/AccademiaCrei-fire-walking.jpg
END:VEVENT
END:VCALENDAR